BEGIN:VCALENDAR
VERSION:2.0
PRODID:-//Schule Burg Hackenbroich - ECPv6.15.20//NONSGML v1.0//EN
CALSCALE:GREGORIAN
METHOD:PUBLISH
X-ORIGINAL-URL:https://sbh-dormagen.de
X-WR-CALDESC:Veranstaltungen für Schule Burg Hackenbroich
REFRESH-INTERVAL;VALUE=DURATION:PT1H
X-Robots-Tag:noindex
X-PUBLISHED-TTL:PT1H
BEGIN:VTIMEZONE
TZID:Europe/Berlin
BEGIN:DAYLIGHT
TZOFFSETFROM:+0100
TZOFFSETTO:+0200
TZNAME:CEST
DTSTART:20240331T010000
END:DAYLIGHT
BEGIN:STANDARD
TZOFFSETFROM:+0200
TZOFFSETTO:+0100
TZNAME:CET
DTSTART:20241027T010000
END:STANDARD
BEGIN:DAYLIGHT
TZOFFSETFROM:+0100
TZOFFSETTO:+0200
TZNAME:CEST
DTSTART:20250330T010000
END:DAYLIGHT
BEGIN:STANDARD
TZOFFSETFROM:+0200
TZOFFSETTO:+0100
TZNAME:CET
DTSTART:20251026T010000
END:STANDARD
BEGIN:DAYLIGHT
TZOFFSETFROM:+0100
TZOFFSETTO:+0200
TZNAME:CEST
DTSTART:20260329T010000
END:DAYLIGHT
BEGIN:STANDARD
TZOFFSETFROM:+0200
TZOFFSETTO:+0100
TZNAME:CET
DTSTART:20261025T010000
END:STANDARD
END:VTIMEZONE
BEGIN:VEVENT
DTSTART;VALUE=DATE:20251113
DTEND;VALUE=DATE:20251114
DTSTAMP:20260423T172753
CREATED:20250826T075200Z
LAST-MODIFIED:20250826T075200Z
UID:2184-1762992000-1763078399@sbh-dormagen.de
SUMMARY:Sankt Martin
DESCRIPTION:
URL:https://sbh-dormagen.de/veranstaltung/sankt-martin/
CATEGORIES:OGS,Schule
ATTACH;FMTTYPE=image/jpeg:https://sbh-dormagen.de/wp-content/uploads/2025/08/image0-scaled.jpeg
END:VEVENT
BEGIN:VEVENT
DTSTART;TZID=Europe/Berlin:20251113T080000
DTEND;TZID=Europe/Berlin:20251113T084500
DTSTAMP:20260423T172753
CREATED:20250906T064923Z
LAST-MODIFIED:20250906T065045Z
UID:2265-1763020800-1763023500@sbh-dormagen.de
SUMMARY:Schulgottesdienst
DESCRIPTION:ökumenischer Schulgottesdienst für die Kinder der Stufen 3 und 4
URL:https://sbh-dormagen.de/veranstaltung/schulgottesdienst-2/
CATEGORIES:Schule
ATTACH;FMTTYPE=image/jpeg:https://sbh-dormagen.de/wp-content/uploads/2025/03/20220908-083102-scaled-e1747887814579.jpg
END:VEVENT
BEGIN:VEVENT
DTSTART;VALUE=DATE:20251117
DTEND;VALUE=DATE:20251122
DTSTAMP:20260423T172753
CREATED:20250826T075557Z
LAST-MODIFIED:20250826T075557Z
UID:2187-1763337600-1763769599@sbh-dormagen.de
SUMMARY:Elternsprechwoche
DESCRIPTION:Nähere Infos folgen zeitnah!
URL:https://sbh-dormagen.de/veranstaltung/elternsprechwoche/
CATEGORIES:OGS,Schule
ATTACH;FMTTYPE=image/jpeg:https://sbh-dormagen.de/wp-content/uploads/2025/08/feedback-1825508-1280.jpg
END:VEVENT
BEGIN:VEVENT
DTSTART;VALUE=DATE:20251124
DTEND;VALUE=DATE:20251128
DTSTAMP:20260423T172753
CREATED:20250826T075811Z
LAST-MODIFIED:20250826T090739Z
UID:2191-1763942400-1764287999@sbh-dormagen.de
SUMMARY:Schultanzwoche
DESCRIPTION:Nähere Infos folgen zeitnah!
URL:https://sbh-dormagen.de/veranstaltung/schultanzwoche/
CATEGORIES:OGS,Schule
ATTACH;FMTTYPE=image/png:https://sbh-dormagen.de/wp-content/uploads/2025/08/kids-3297107-1280.png
END:VEVENT
END:VCALENDAR