BEGIN:VCALENDAR
VERSION:2.0
PRODID:-//Schule Burg Hackenbroich - ECPv6.15.20//NONSGML v1.0//EN
CALSCALE:GREGORIAN
METHOD:PUBLISH
X-ORIGINAL-URL:https://sbh-dormagen.de
X-WR-CALDESC:Veranstaltungen für Schule Burg Hackenbroich
REFRESH-INTERVAL;VALUE=DURATION:PT1H
X-Robots-Tag:noindex
X-PUBLISHED-TTL:PT1H
BEGIN:VTIMEZONE
TZID:Europe/Berlin
BEGIN:DAYLIGHT
TZOFFSETFROM:+0100
TZOFFSETTO:+0200
TZNAME:CEST
DTSTART:20240331T010000
END:DAYLIGHT
BEGIN:STANDARD
TZOFFSETFROM:+0200
TZOFFSETTO:+0100
TZNAME:CET
DTSTART:20241027T010000
END:STANDARD
BEGIN:DAYLIGHT
TZOFFSETFROM:+0100
TZOFFSETTO:+0200
TZNAME:CEST
DTSTART:20250330T010000
END:DAYLIGHT
BEGIN:STANDARD
TZOFFSETFROM:+0200
TZOFFSETTO:+0100
TZNAME:CET
DTSTART:20251026T010000
END:STANDARD
BEGIN:DAYLIGHT
TZOFFSETFROM:+0100
TZOFFSETTO:+0200
TZNAME:CEST
DTSTART:20260329T010000
END:DAYLIGHT
BEGIN:STANDARD
TZOFFSETFROM:+0200
TZOFFSETTO:+0100
TZNAME:CET
DTSTART:20261025T010000
END:STANDARD
END:VTIMEZONE
BEGIN:VEVENT
DTSTART;VALUE=DATE:20250929
DTEND;VALUE=DATE:20251101
DTSTAMP:20260423T222142
CREATED:20250822T095228Z
LAST-MODIFIED:20250822T095228Z
UID:2162-1759104000-1761955199@sbh-dormagen.de
SUMMARY:Anmeldungen Schulneulinge
DESCRIPTION:Bitte vereinbaren Sie einen Termin!
URL:https://sbh-dormagen.de/veranstaltung/anmeldungen-schulneulinge/
ATTACH;FMTTYPE=image/jpeg:https://sbh-dormagen.de/wp-content/uploads/2025/03/school-enrollment-4445806-1280-e1747887866735.jpg
END:VEVENT
BEGIN:VEVENT
DTSTART;TZID=Europe/Berlin:20251001T190000
DTEND;TZID=Europe/Berlin:20251001T210000
DTSTAMP:20260423T222142
CREATED:20250822T095746Z
LAST-MODIFIED:20250822T095746Z
UID:2164-1759345200-1759352400@sbh-dormagen.de
SUMMARY:1. Schulkonferenz
DESCRIPTION:
URL:https://sbh-dormagen.de/veranstaltung/1-schulkonferenz/
ATTACH;FMTTYPE=application/pdf:https://sbh-dormagen.de/wp-content/uploads/2025/08/paedagogischer-ganztag-1.pdf
END:VEVENT
BEGIN:VEVENT
DTSTART;TZID=Europe/Berlin:20251009T080000
DTEND;TZID=Europe/Berlin:20251009T084500
DTSTAMP:20260423T222142
CREATED:20250906T064133Z
LAST-MODIFIED:20250906T064133Z
UID:2263-1759996800-1759999500@sbh-dormagen.de
SUMMARY:Schulgottesdienst
DESCRIPTION:ökumenischer Schulgottesdienst für die Kinder der Stufen 3 und 4
URL:https://sbh-dormagen.de/veranstaltung/schulgottesdienst/
CATEGORIES:Schule
ATTACH;FMTTYPE=image/jpeg:https://sbh-dormagen.de/wp-content/uploads/2025/03/20220908-083102-scaled-e1747887814579.jpg
END:VEVENT
BEGIN:VEVENT
DTSTART;VALUE=DATE:20251013
DTEND;VALUE=DATE:20251025
DTSTAMP:20260423T222142
CREATED:20250826T074530Z
LAST-MODIFIED:20250826T074530Z
UID:2178-1760313600-1761350399@sbh-dormagen.de
SUMMARY:Herbstferien
DESCRIPTION:
URL:https://sbh-dormagen.de/veranstaltung/herbstferien/
CATEGORIES:OGS,Schule
ATTACH;FMTTYPE=image/jpeg:https://sbh-dormagen.de/wp-content/uploads/2025/08/herbstferien.jpg
END:VEVENT
BEGIN:VEVENT
DTSTART;TZID=Europe/Berlin:20251030T180000
DTEND;TZID=Europe/Berlin:20251030T210000
DTSTAMP:20260423T222142
CREATED:20250826T074924Z
LAST-MODIFIED:20251028T115135Z
UID:2181-1761847200-1761858000@sbh-dormagen.de
SUMMARY:Informationsveranstaltung "Übergang Grundschule - weiterführende Schule"
DESCRIPTION:Der Informationsabend findet am 30.10.2025 um 18 Uhr im PZ des Leibniz-Gymnasiums in Dormagen statt.
URL:https://sbh-dormagen.de/veranstaltung/informationsveranstaltung-uebergang-grundschule-weiterfuehrende-schule/
CATEGORIES:Schule
ATTACH;FMTTYPE=image/png:https://sbh-dormagen.de/wp-content/uploads/2025/08/lamp-7862625-1280.png
END:VEVENT
END:VCALENDAR