BEGIN:VCALENDAR
VERSION:2.0
PRODID:-//Schule Burg Hackenbroich - ECPv6.15.20//NONSGML v1.0//EN
CALSCALE:GREGORIAN
METHOD:PUBLISH
X-ORIGINAL-URL:https://sbh-dormagen.de
X-WR-CALDESC:Veranstaltungen für Schule Burg Hackenbroich
REFRESH-INTERVAL;VALUE=DURATION:PT1H
X-Robots-Tag:noindex
X-PUBLISHED-TTL:PT1H
BEGIN:VTIMEZONE
TZID:Europe/Berlin
BEGIN:DAYLIGHT
TZOFFSETFROM:+0100
TZOFFSETTO:+0200
TZNAME:CEST
DTSTART:20240331T010000
END:DAYLIGHT
BEGIN:STANDARD
TZOFFSETFROM:+0200
TZOFFSETTO:+0100
TZNAME:CET
DTSTART:20241027T010000
END:STANDARD
BEGIN:DAYLIGHT
TZOFFSETFROM:+0100
TZOFFSETTO:+0200
TZNAME:CEST
DTSTART:20250330T010000
END:DAYLIGHT
BEGIN:STANDARD
TZOFFSETFROM:+0200
TZOFFSETTO:+0100
TZNAME:CET
DTSTART:20251026T010000
END:STANDARD
BEGIN:DAYLIGHT
TZOFFSETFROM:+0100
TZOFFSETTO:+0200
TZNAME:CEST
DTSTART:20260329T010000
END:DAYLIGHT
BEGIN:STANDARD
TZOFFSETFROM:+0200
TZOFFSETTO:+0100
TZNAME:CET
DTSTART:20261025T010000
END:STANDARD
END:VTIMEZONE
BEGIN:VEVENT
DTSTART;VALUE=DATE:20250714
DTEND;VALUE=DATE:20250827
DTSTAMP:20260423T235817
CREATED:20250316T150924Z
LAST-MODIFIED:20250522T042140Z
UID:1608-1752451200-1756252799@sbh-dormagen.de
SUMMARY:Sommerferien
DESCRIPTION:Sommerferien vom 14.07.2025 bis zum 26.08.2025! \nWir wünschen allen gute Erholung und einen tollen Urlaub!
URL:https://sbh-dormagen.de/veranstaltung/sommerferien/
CATEGORIES:Schule
ATTACH;FMTTYPE=image/jpeg:https://sbh-dormagen.de/wp-content/uploads/2025/03/20240721-191749-scaled-e1747887688325.jpg
END:VEVENT
BEGIN:VEVENT
DTSTART;TZID=Europe/Berlin:20250716T080000
DTEND;TZID=Europe/Berlin:20250906T084500
DTSTAMP:20260423T235817
CREATED:20250906T070533Z
LAST-MODIFIED:20250906T070533Z
UID:2284-1752652800-1757148300@sbh-dormagen.de
SUMMARY:Schulgottesdienst
DESCRIPTION:ökumenischer Schulgottesdienst für die Kinder der Stufen 3 und 4
URL:https://sbh-dormagen.de/veranstaltung/schulgottesdienst-11/
CATEGORIES:Schule
ATTACH;FMTTYPE=image/jpeg:https://sbh-dormagen.de/wp-content/uploads/2025/03/20220908-083102-scaled-e1747887814579.jpg
END:VEVENT
BEGIN:VEVENT
DTSTART;TZID=Europe/Berlin:20250827T080000
DTEND;TZID=Europe/Berlin:20250827T113000
DTSTAMP:20260423T235817
CREATED:20250822T092708Z
LAST-MODIFIED:20250822T092708Z
UID:2140-1756281600-1756294200@sbh-dormagen.de
SUMMARY:1. Schultag nach den Sommerferien - Unterricht von 8.00 Uhr bis 11.30 Uhr
DESCRIPTION:
URL:https://sbh-dormagen.de/veranstaltung/1-schultag-nach-den-sommerferien-unterricht-von-8-00-uhr-bis-11-30-uhr/
CATEGORIES:Schule
ATTACH;FMTTYPE=image/png:https://sbh-dormagen.de/wp-content/uploads/2025/08/ai-generated-9004981-1280.png
END:VEVENT
BEGIN:VEVENT
DTSTART;VALUE=DATE:20250828
DTEND;VALUE=DATE:20250829
DTSTAMP:20260423T235817
CREATED:20250822T093410Z
LAST-MODIFIED:20250826T071411Z
UID:2143-1756339200-1756425599@sbh-dormagen.de
SUMMARY:Einschulungsfeier am 28.08.2025
DESCRIPTION:8.30 Uhr      Einschulung Klassen 1a und 1b\n10.00 Uhr    ökumenischer Einschulungsgottesdienst in St. Katharina\n11.00 Uhr    Einschulung Klassen 1c und 1d
URL:https://sbh-dormagen.de/veranstaltung/einschulungsfeier-klassen-1a-und-1b/
CATEGORIES:OGS,Schule
ATTACH;FMTTYPE=image/jpeg:https://sbh-dormagen.de/wp-content/uploads/2025/08/school-964138-1280-e1755855228906.jpg
END:VEVENT
END:VCALENDAR