BEGIN:VCALENDAR
VERSION:2.0
PRODID:-//Schule Burg Hackenbroich - ECPv6.15.20//NONSGML v1.0//EN
CALSCALE:GREGORIAN
METHOD:PUBLISH
X-ORIGINAL-URL:https://sbh-dormagen.de
X-WR-CALDESC:Veranstaltungen für Schule Burg Hackenbroich
REFRESH-INTERVAL;VALUE=DURATION:PT1H
X-Robots-Tag:noindex
X-PUBLISHED-TTL:PT1H
BEGIN:VTIMEZONE
TZID:Europe/Berlin
BEGIN:DAYLIGHT
TZOFFSETFROM:+0100
TZOFFSETTO:+0200
TZNAME:CEST
DTSTART:20240331T010000
END:DAYLIGHT
BEGIN:STANDARD
TZOFFSETFROM:+0200
TZOFFSETTO:+0100
TZNAME:CET
DTSTART:20241027T010000
END:STANDARD
BEGIN:DAYLIGHT
TZOFFSETFROM:+0100
TZOFFSETTO:+0200
TZNAME:CEST
DTSTART:20250330T010000
END:DAYLIGHT
BEGIN:STANDARD
TZOFFSETFROM:+0200
TZOFFSETTO:+0100
TZNAME:CET
DTSTART:20251026T010000
END:STANDARD
BEGIN:DAYLIGHT
TZOFFSETFROM:+0100
TZOFFSETTO:+0200
TZNAME:CEST
DTSTART:20260329T010000
END:DAYLIGHT
BEGIN:STANDARD
TZOFFSETFROM:+0200
TZOFFSETTO:+0100
TZNAME:CET
DTSTART:20261025T010000
END:STANDARD
END:VTIMEZONE
BEGIN:VEVENT
DTSTART;VALUE=DATE:20250521
DTEND;VALUE=DATE:20250524
DTSTAMP:20260424T042920
CREATED:20250316T144316Z
LAST-MODIFIED:20250316T151157Z
UID:1584-1747785600-1748044799@sbh-dormagen.de
SUMMARY:Klassenfahrt Stufe 3
DESCRIPTION:Alle wichtigen Infos erhalten Sie von den Klassenlehrerinnen! \nWir wünschen allen tolle\, aufregende und erlebnisreiche Tage.
URL:https://sbh-dormagen.de/veranstaltung/klassenfahrt-stufe-3/
CATEGORIES:Schule
ATTACH;FMTTYPE=application/pdf:https://sbh-dormagen.de/wp-content/uploads/2025/03/klassenfahrt.pdf
END:VEVENT
BEGIN:VEVENT
DTSTART;VALUE=DATE:20250529
DTEND;VALUE=DATE:20250531
DTSTAMP:20260424T042920
CREATED:20250316T144656Z
LAST-MODIFIED:20250522T043721Z
UID:1587-1748476800-1748649599@sbh-dormagen.de
SUMMARY:Christi Himmelfahrt
DESCRIPTION:Donnerstag\, 29.05.2025 Christlicher Feiertag – unterrichtsfrei – OGS geschlossen\nFreitag\, 30.05.2025 beweglicher Ferientag – unterrichtsfrei – OGS geschlossen
URL:https://sbh-dormagen.de/veranstaltung/christi-himmelfahrt/
CATEGORIES:OGS,Schule
ATTACH;FMTTYPE=image/jpeg:https://sbh-dormagen.de/wp-content/uploads/2025/03/stained-glass-window-14118-640-e1747887478972.jpg
END:VEVENT
END:VCALENDAR