BEGIN:VCALENDAR
VERSION:2.0
PRODID:-//Schule Burg Hackenbroich - ECPv6.15.20//NONSGML v1.0//EN
CALSCALE:GREGORIAN
METHOD:PUBLISH
X-ORIGINAL-URL:https://sbh-dormagen.de
X-WR-CALDESC:Veranstaltungen für Schule Burg Hackenbroich
REFRESH-INTERVAL;VALUE=DURATION:PT1H
X-Robots-Tag:noindex
X-PUBLISHED-TTL:PT1H
BEGIN:VTIMEZONE
TZID:Europe/Berlin
BEGIN:DAYLIGHT
TZOFFSETFROM:+0100
TZOFFSETTO:+0200
TZNAME:CEST
DTSTART:20250330T010000
END:DAYLIGHT
BEGIN:STANDARD
TZOFFSETFROM:+0200
TZOFFSETTO:+0100
TZNAME:CET
DTSTART:20251026T010000
END:STANDARD
BEGIN:DAYLIGHT
TZOFFSETFROM:+0100
TZOFFSETTO:+0200
TZNAME:CEST
DTSTART:20260329T010000
END:DAYLIGHT
BEGIN:STANDARD
TZOFFSETFROM:+0200
TZOFFSETTO:+0100
TZNAME:CET
DTSTART:20261025T010000
END:STANDARD
BEGIN:DAYLIGHT
TZOFFSETFROM:+0100
TZOFFSETTO:+0200
TZNAME:CEST
DTSTART:20270328T010000
END:DAYLIGHT
BEGIN:STANDARD
TZOFFSETFROM:+0200
TZOFFSETTO:+0100
TZNAME:CET
DTSTART:20271031T010000
END:STANDARD
END:VTIMEZONE
BEGIN:VEVENT
DTSTART;VALUE=DATE:20260212
DTEND;VALUE=DATE:20260217
DTSTAMP:20260422T161624
CREATED:20250826T083826Z
LAST-MODIFIED:20250826T083826Z
UID:2201-1770854400-1771286399@sbh-dormagen.de
SUMMARY:Weiberfastnacht und Karneval
DESCRIPTION:Unterrichtsschluss am 12.02.26 um 11.11 Uhr – OGS bis 14.00 Uhr geöffnet \n13.02.2026 beweglicher Ferientag – OGS geöffnet \n16.02.2026 beweglicher Ferientag – Rosenmontag – OGS geschlossen
URL:https://sbh-dormagen.de/veranstaltung/weiberfastnacht-und-karneval/
CATEGORIES:Schule
ATTACH;FMTTYPE=image/jpeg:https://sbh-dormagen.de/wp-content/uploads/2025/08/fun-3165838-1280.jpg
END:VEVENT
END:VCALENDAR