BEGIN:VCALENDAR
VERSION:2.0
PRODID:-//Schule Burg Hackenbroich - ECPv6.15.20//NONSGML v1.0//EN
CALSCALE:GREGORIAN
METHOD:PUBLISH
X-WR-CALNAME:Schule Burg Hackenbroich
X-ORIGINAL-URL:https://sbh-dormagen.de
X-WR-CALDESC:Veranstaltungen für Schule Burg Hackenbroich
REFRESH-INTERVAL;VALUE=DURATION:PT1H
X-Robots-Tag:noindex
X-PUBLISHED-TTL:PT1H
BEGIN:VTIMEZONE
TZID:Europe/Berlin
BEGIN:DAYLIGHT
TZOFFSETFROM:+0100
TZOFFSETTO:+0200
TZNAME:CEST
DTSTART:20240331T010000
END:DAYLIGHT
BEGIN:STANDARD
TZOFFSETFROM:+0200
TZOFFSETTO:+0100
TZNAME:CET
DTSTART:20241027T010000
END:STANDARD
BEGIN:DAYLIGHT
TZOFFSETFROM:+0100
TZOFFSETTO:+0200
TZNAME:CEST
DTSTART:20250330T010000
END:DAYLIGHT
BEGIN:STANDARD
TZOFFSETFROM:+0200
TZOFFSETTO:+0100
TZNAME:CET
DTSTART:20251026T010000
END:STANDARD
BEGIN:DAYLIGHT
TZOFFSETFROM:+0100
TZOFFSETTO:+0200
TZNAME:CEST
DTSTART:20260329T010000
END:DAYLIGHT
BEGIN:STANDARD
TZOFFSETFROM:+0200
TZOFFSETTO:+0100
TZNAME:CET
DTSTART:20261025T010000
END:STANDARD
END:VTIMEZONE
BEGIN:VEVENT
DTSTART;TZID=Europe/Berlin:20250919T140000
DTEND;TZID=Europe/Berlin:20250919T170000
DTSTAMP:20260423T235723
CREATED:20250822T095046Z
LAST-MODIFIED:20250822T095046Z
UID:2159-1758290400-1758301200@sbh-dormagen.de
SUMMARY:Tag der offenen Tür
DESCRIPTION:Nur nach vorheriger Anmeldung möglich. \nInfos folgen zeitnah!
URL:https://sbh-dormagen.de/veranstaltung/tag-der-offenen-tuer/
ATTACH;FMTTYPE=image/jpeg:https://sbh-dormagen.de/wp-content/uploads/2025/03/schule-burg-front-1.jpg
END:VEVENT
END:VCALENDAR